BEGIN:VCALENDAR
VERSION:2.0
PRODID:-//La Tanière au coin du jeu - ECPv6.15.20//NONSGML v1.0//EN
CALSCALE:GREGORIAN
METHOD:PUBLISH
X-WR-CALNAME:La Tanière au coin du jeu
X-ORIGINAL-URL:https://tanierejeux.fr
X-WR-CALDESC:Évènements pour La Tanière au coin du jeu
REFRESH-INTERVAL;VALUE=DURATION:PT1H
X-Robots-Tag:noindex
X-PUBLISHED-TTL:PT1H
BEGIN:VTIMEZONE
TZID:Europe/Paris
BEGIN:DAYLIGHT
TZOFFSETFROM:+0100
TZOFFSETTO:+0200
TZNAME:CEST
DTSTART:20240331T010000
END:DAYLIGHT
BEGIN:STANDARD
TZOFFSETFROM:+0200
TZOFFSETTO:+0100
TZNAME:CET
DTSTART:20241027T010000
END:STANDARD
BEGIN:DAYLIGHT
TZOFFSETFROM:+0100
TZOFFSETTO:+0200
TZNAME:CEST
DTSTART:20250330T010000
END:DAYLIGHT
BEGIN:STANDARD
TZOFFSETFROM:+0200
TZOFFSETTO:+0100
TZNAME:CET
DTSTART:20251026T010000
END:STANDARD
BEGIN:DAYLIGHT
TZOFFSETFROM:+0100
TZOFFSETTO:+0200
TZNAME:CEST
DTSTART:20260329T010000
END:DAYLIGHT
BEGIN:STANDARD
TZOFFSETFROM:+0200
TZOFFSETTO:+0100
TZNAME:CET
DTSTART:20261025T010000
END:STANDARD
END:VTIMEZONE
BEGIN:VEVENT
DTSTART;TZID=Europe/Paris:20250124T190000
DTEND;TZID=Europe/Paris:20250124T220000
DTSTAMP:20260420T113805
CREATED:20250120T005731Z
LAST-MODIFIED:20250120T011131Z
UID:676-1737745200-1737756000@tanierejeux.fr
SUMMARY:Séance de Quizz avec l'écureuil grincheux
DESCRIPTION:Vendredi 24 janvier\, nous aurons l’honneur d’accueillir Écureuil Grincheux qui animera une petite session de « note ta mémoire »\, un jeu de quiz de son cru ou il se promènera entre les groupes pour poser des questions sur des sujets aléatoires. \nVous devrez évaluer les autres membres de l’équipe pour espérer faire le meilleur score de la soirée et gagner des lots ! (des petits points bonus seront cachés de parts et d’autres dans le bar\, attrapez-les tous !)
URL:https://tanierejeux.fr/event/seance-de-quizz-avec-lecureuil-grincheux/
LOCATION:La Tanière au coin du jeu\, 8 rue Ampère\, Grenoble\, Isere\, 38000\, France
ATTACH;FMTTYPE=image/jpeg:https://tanierejeux.fr/wp-content/uploads/2025/01/annonce-ecureuil2.jpg
ORGANIZER;CN="La Tani%C3%A8re au coin du jeu %F0%9F%94%A5":MAILTO:contact@tanierejeux.fr
END:VEVENT
END:VCALENDAR