BEGIN:VCALENDAR
VERSION:2.0
PRODID:-//La Tanière au coin du jeu - ECPv6.15.20//NONSGML v1.0//EN
CALSCALE:GREGORIAN
METHOD:PUBLISH
X-WR-CALNAME:La Tanière au coin du jeu
X-ORIGINAL-URL:https://tanierejeux.fr
X-WR-CALDESC:Évènements pour La Tanière au coin du jeu
REFRESH-INTERVAL;VALUE=DURATION:PT1H
X-Robots-Tag:noindex
X-PUBLISHED-TTL:PT1H
BEGIN:VTIMEZONE
TZID:Europe/Paris
BEGIN:DAYLIGHT
TZOFFSETFROM:+0100
TZOFFSETTO:+0200
TZNAME:CEST
DTSTART:20240331T010000
END:DAYLIGHT
BEGIN:STANDARD
TZOFFSETFROM:+0200
TZOFFSETTO:+0100
TZNAME:CET
DTSTART:20241027T010000
END:STANDARD
BEGIN:DAYLIGHT
TZOFFSETFROM:+0100
TZOFFSETTO:+0200
TZNAME:CEST
DTSTART:20250330T010000
END:DAYLIGHT
BEGIN:STANDARD
TZOFFSETFROM:+0200
TZOFFSETTO:+0100
TZNAME:CET
DTSTART:20251026T010000
END:STANDARD
BEGIN:DAYLIGHT
TZOFFSETFROM:+0100
TZOFFSETTO:+0200
TZNAME:CEST
DTSTART:20260329T010000
END:DAYLIGHT
BEGIN:STANDARD
TZOFFSETFROM:+0200
TZOFFSETTO:+0100
TZNAME:CET
DTSTART:20261025T010000
END:STANDARD
END:VTIMEZONE
BEGIN:VEVENT
DTSTART;TZID=Europe/Paris:20250102T193000
DTEND;TZID=Europe/Paris:20250102T230000
DTSTAMP:20260420T093458
CREATED:20241229T192822Z
LAST-MODIFIED:20241229T192822Z
UID:615-1735846200-1735858800@tanierejeux.fr
SUMMARY:Découverte jeux
DESCRIPTION:Comme chaque mois\, place à la découverte des nouveautés en compagnie de jeux du monde pour notre réouverture ce jeudi 02 janvier. \nA jeudi !
URL:https://tanierejeux.fr/event/decouverte-jeux/
LOCATION:La Tanière au coin du jeu\, 8 rue Ampère\, Grenoble\, Isere\, 38000\, France
ATTACH;FMTTYPE=image/jpeg:https://tanierejeux.fr/wp-content/uploads/2024/12/250102-decouverteJDM_20241229_202219_0000.jpg
ORGANIZER;CN="La Tani%C3%A8re au coin du jeu %F0%9F%94%A5":MAILTO:contact@tanierejeux.fr
END:VEVENT
BEGIN:VEVENT
DTSTART;TZID=Europe/Paris:20250108T163000
DTEND;TZID=Europe/Paris:20250108T190000
DTSTAMP:20260420T093458
CREATED:20241229T194420Z
LAST-MODIFIED:20241229T194420Z
UID:624-1736353800-1736362800@tanierejeux.fr
SUMMARY:Gouter Jeu(x)nesse
DESCRIPTION:Petit goûter jeu(x)nesse de 7 à 12 ans en compagnie de Yannick ! \n\n12 jeunes max\nréservation conseillée par sms au 07 84 63 14 29.
URL:https://tanierejeux.fr/event/gouter-jeuxnesse/
LOCATION:La Tanière au coin du jeu\, 8 rue Ampère\, Grenoble\, Isere\, 38000\, France
ATTACH;FMTTYPE=image/jpeg:https://tanierejeux.fr/wp-content/uploads/2024/12/1_20241229_203945_0000.jpg
ORGANIZER;CN="La Tani%C3%A8re au coin du jeu %F0%9F%94%A5":MAILTO:contact@tanierejeux.fr
END:VEVENT
BEGIN:VEVENT
DTSTART;TZID=Europe/Paris:20250116T193000
DTEND;TZID=Europe/Paris:20250116T230000
DTSTAMP:20260420T093458
CREATED:20250108T020001Z
LAST-MODIFIED:20250108T020001Z
UID:668-1737055800-1737068400@tanierejeux.fr
SUMMARY:Tichu de janvier
DESCRIPTION:La session de Tichu de janvier aura lieu le jeudi 16\, à vos atouts !
URL:https://tanierejeux.fr/event/tichu-de-janvier/
LOCATION:La Tanière au coin du jeu\, 8 rue Ampère\, Grenoble\, Isere\, 38000\, France
ATTACH;FMTTYPE=image/jpeg:https://tanierejeux.fr/wp-content/uploads/2025/01/1.jpg
ORGANIZER;CN="La Tani%C3%A8re au coin du jeu %F0%9F%94%A5":MAILTO:contact@tanierejeux.fr
END:VEVENT
BEGIN:VEVENT
DTSTART;TZID=Europe/Paris:20250118T140000
DTEND;TZID=Europe/Paris:20250118T180000
DTSTAMP:20260420T093458
CREATED:20250106T021536Z
LAST-MODIFIED:20250106T021628Z
UID:645-1737208800-1737223200@tanierejeux.fr
SUMMARY:Aprem jeu de rôle
DESCRIPTION:En compagnie des féli’dés venez découvrir le jeu de rôle \nInscription par SMS auprès de la Tanière  au 07 84 63 14 29
URL:https://tanierejeux.fr/event/aprem-jeu-de-role/
LOCATION:La Tanière au coin du jeu\, 8 rue Ampère\, Grenoble\, Isere\, 38000\, France
ATTACH;FMTTYPE=image/jpeg:https://tanierejeux.fr/wp-content/uploads/2025/01/250118-JDRFelides.jpg
ORGANIZER;CN="La Tani%C3%A8re au coin du jeu %F0%9F%94%A5":MAILTO:contact@tanierejeux.fr
END:VEVENT
BEGIN:VEVENT
DTSTART;TZID=Europe/Paris:20250124T190000
DTEND;TZID=Europe/Paris:20250124T220000
DTSTAMP:20260420T093458
CREATED:20250120T005731Z
LAST-MODIFIED:20250120T011131Z
UID:676-1737745200-1737756000@tanierejeux.fr
SUMMARY:Séance de Quizz avec l'écureuil grincheux
DESCRIPTION:Vendredi 24 janvier\, nous aurons l’honneur d’accueillir Écureuil Grincheux qui animera une petite session de « note ta mémoire »\, un jeu de quiz de son cru ou il se promènera entre les groupes pour poser des questions sur des sujets aléatoires. \nVous devrez évaluer les autres membres de l’équipe pour espérer faire le meilleur score de la soirée et gagner des lots ! (des petits points bonus seront cachés de parts et d’autres dans le bar\, attrapez-les tous !)
URL:https://tanierejeux.fr/event/seance-de-quizz-avec-lecureuil-grincheux/
LOCATION:La Tanière au coin du jeu\, 8 rue Ampère\, Grenoble\, Isere\, 38000\, France
ATTACH;FMTTYPE=image/jpeg:https://tanierejeux.fr/wp-content/uploads/2025/01/annonce-ecureuil2.jpg
ORGANIZER;CN="La Tani%C3%A8re au coin du jeu %F0%9F%94%A5":MAILTO:contact@tanierejeux.fr
END:VEVENT
BEGIN:VEVENT
DTSTART;TZID=Europe/Paris:20250125T000000
DTEND;TZID=Europe/Paris:20250125T235959
DTSTAMP:20260420T093458
CREATED:20250120T012809Z
LAST-MODIFIED:20250120T012809Z
UID:685-1737763200-1737849599@tanierejeux.fr
SUMMARY:Privatisation le 25 - Fermeture au public
DESCRIPTION:Exceptionnellement ce samedi 25 janvier nous n’ouvrirons pas nos portes au public \nMais pour se faire pardonner on organise un petit quiz avec des lots le 24 avec l’Écureuil Grincheux 💝 \n  \nA bientôt !
URL:https://tanierejeux.fr/event/privatisation-le-25-fermeture-au-public/
LOCATION:La Tanière au coin du jeu\, 8 rue Ampère\, Grenoble\, Isere\, 38000\, France
ATTACH;FMTTYPE=image/jpeg:https://tanierejeux.fr/wp-content/uploads/2025/01/250125-PrivatisationExceptionnelle.jpg
ORGANIZER;CN="La Tani%C3%A8re au coin du jeu %F0%9F%94%A5":MAILTO:contact@tanierejeux.fr
END:VEVENT
END:VCALENDAR