BEGIN:VCALENDAR
VERSION:2.0
PRODID:-//La Tanière au coin du jeu - ECPv6.15.20//NONSGML v1.0//EN
CALSCALE:GREGORIAN
METHOD:PUBLISH
X-WR-CALNAME:La Tanière au coin du jeu
X-ORIGINAL-URL:https://tanierejeux.fr
X-WR-CALDESC:Évènements pour La Tanière au coin du jeu
REFRESH-INTERVAL;VALUE=DURATION:PT1H
X-Robots-Tag:noindex
X-PUBLISHED-TTL:PT1H
BEGIN:VTIMEZONE
TZID:Europe/Paris
BEGIN:DAYLIGHT
TZOFFSETFROM:+0100
TZOFFSETTO:+0200
TZNAME:CEST
DTSTART:20240331T010000
END:DAYLIGHT
BEGIN:STANDARD
TZOFFSETFROM:+0200
TZOFFSETTO:+0100
TZNAME:CET
DTSTART:20241027T010000
END:STANDARD
BEGIN:DAYLIGHT
TZOFFSETFROM:+0100
TZOFFSETTO:+0200
TZNAME:CEST
DTSTART:20250330T010000
END:DAYLIGHT
BEGIN:STANDARD
TZOFFSETFROM:+0200
TZOFFSETTO:+0100
TZNAME:CET
DTSTART:20251026T010000
END:STANDARD
BEGIN:DAYLIGHT
TZOFFSETFROM:+0100
TZOFFSETTO:+0200
TZNAME:CEST
DTSTART:20260329T010000
END:DAYLIGHT
BEGIN:STANDARD
TZOFFSETFROM:+0200
TZOFFSETTO:+0100
TZNAME:CET
DTSTART:20261025T010000
END:STANDARD
END:VTIMEZONE
BEGIN:VEVENT
DTSTART;TZID=Europe/Paris:20250403T193000
DTEND;TZID=Europe/Paris:20250403T230000
DTSTAMP:20260420T045025
CREATED:20250331T075400Z
LAST-MODIFIED:20250407T165243Z
UID:767-1743708600-1743721200@tanierejeux.fr
SUMMARY:Découverte Jeux avec jeux du monde
DESCRIPTION:Prochaine découverte nouveautés avec jeux du monde : le jeudi 3 avril au soir. \nvoilà la liste : \n\nLeaders\nZenith\nAgent Avenue\nDaydream\nMesos\nSail\nMarché Végé\nVIP RIP\nBlind Jack\nWave\nSymbiose\nPrésages\nHutan\nNavoria\n\nPensez à réserver au 07 84 63 14 29 ! 😉
URL:https://tanierejeux.fr/event/decouverte-jeux-avec-jeux-du-monde/
LOCATION:La Tanière au coin du jeu\, 8 rue Ampère\, Grenoble\, Isere\, 38000\, France
CATEGORIES:découverte
ATTACH;FMTTYPE=image/jpeg:https://tanierejeux.fr/wp-content/uploads/2025/03/1-4.jpg
ORGANIZER;CN="La Tani%C3%A8re au coin du jeu %F0%9F%94%A5":MAILTO:contact@tanierejeux.fr
END:VEVENT
BEGIN:VEVENT
DTSTART;TZID=Europe/Paris:20250412T190000
DTEND;TZID=Europe/Paris:20250412T220000
DTSTAMP:20260420T045025
CREATED:20250331T075614Z
LAST-MODIFIED:20250331T075614Z
UID:771-1744484400-1744495200@tanierejeux.fr
SUMMARY:Quiz de l'écureuil
DESCRIPTION:A partir d’avril\, l’écureuil s’installe chaque deuxième samedi du mois dans l’antre de la tanière pour nous dévoiler ses quiz facétieux ! \npensez à réserver votre place par sms au 07 84 63 14 29
URL:https://tanierejeux.fr/event/quiz-de-lecureuil/
LOCATION:La Tanière au coin du jeu\, 8 rue Ampère\, Grenoble\, Isere\, 38000\, France
CATEGORIES:quiz
ATTACH;FMTTYPE=image/jpeg:https://tanierejeux.fr/wp-content/uploads/2025/03/1-5.jpg
ORGANIZER;CN="La Tani%C3%A8re au coin du jeu %F0%9F%94%A5":MAILTO:contact@tanierejeux.fr
END:VEVENT
BEGIN:VEVENT
DTSTART;TZID=Europe/Paris:20250417T193000
DTEND;TZID=Europe/Paris:20250417T233000
DTSTAMP:20260420T045025
CREATED:20250415T130632Z
LAST-MODIFIED:20250415T130632Z
UID:776-1744918200-1744932600@tanierejeux.fr
SUMMARY:Soirée Tichu
DESCRIPTION:Petite soirée tichu du mois le 3e jeudi soit le 17 avril. \nRdv à 19h30\, n’oublier pas de réserver !
URL:https://tanierejeux.fr/event/soiree-tichu/
LOCATION:La Tanière au coin du jeu\, 8 rue Ampère\, Grenoble\, Isere\, 38000\, France
CATEGORIES:découverte,initiation
ATTACH;FMTTYPE=image/jpeg:https://tanierejeux.fr/wp-content/uploads/2025/04/Copie-de-250220-Tichu.jpg
ORGANIZER;CN="La Tani%C3%A8re au coin du jeu %F0%9F%94%A5":MAILTO:contact@tanierejeux.fr
END:VEVENT
BEGIN:VEVENT
DTSTART;TZID=Europe/Paris:20250425T190000
DTEND;TZID=Europe/Paris:20250425T223000
DTSTAMP:20260420T045025
CREATED:20250415T132213Z
LAST-MODIFIED:20250415T132213Z
UID:779-1745607600-1745620200@tanierejeux.fr
SUMMARY:Jeu de Rôle avec l'ALEG
DESCRIPTION:Vendredi soir\, petite session jeu de rôle. \nQue ce soit pour découvrir ou simplement pour vous immerger\, venez découvrir d’autres univers en compagnie de l’ALEG !
URL:https://tanierejeux.fr/event/jeu-de-role-avec-laleg/
LOCATION:La Tanière au coin du jeu\, 8 rue Ampère\, Grenoble\, Isere\, 38000\, France
CATEGORIES:découverte,initiation,Jeu de Rôle
ATTACH;FMTTYPE=image/jpeg:https://tanierejeux.fr/wp-content/uploads/2025/04/1.jpg
END:VEVENT
END:VCALENDAR