BEGIN:VCALENDAR
VERSION:2.0
PRODID:-//La Tanière au coin du jeu - ECPv6.15.20//NONSGML v1.0//EN
CALSCALE:GREGORIAN
METHOD:PUBLISH
X-WR-CALNAME:La Tanière au coin du jeu
X-ORIGINAL-URL:https://tanierejeux.fr
X-WR-CALDESC:Évènements pour La Tanière au coin du jeu
REFRESH-INTERVAL;VALUE=DURATION:PT1H
X-Robots-Tag:noindex
X-PUBLISHED-TTL:PT1H
BEGIN:VTIMEZONE
TZID:Europe/Paris
BEGIN:DAYLIGHT
TZOFFSETFROM:+0100
TZOFFSETTO:+0200
TZNAME:CEST
DTSTART:20240331T010000
END:DAYLIGHT
BEGIN:STANDARD
TZOFFSETFROM:+0200
TZOFFSETTO:+0100
TZNAME:CET
DTSTART:20241027T010000
END:STANDARD
BEGIN:DAYLIGHT
TZOFFSETFROM:+0100
TZOFFSETTO:+0200
TZNAME:CEST
DTSTART:20250330T010000
END:DAYLIGHT
BEGIN:STANDARD
TZOFFSETFROM:+0200
TZOFFSETTO:+0100
TZNAME:CET
DTSTART:20251026T010000
END:STANDARD
BEGIN:DAYLIGHT
TZOFFSETFROM:+0100
TZOFFSETTO:+0200
TZNAME:CEST
DTSTART:20260329T010000
END:DAYLIGHT
BEGIN:STANDARD
TZOFFSETFROM:+0200
TZOFFSETTO:+0100
TZNAME:CET
DTSTART:20261025T010000
END:STANDARD
END:VTIMEZONE
BEGIN:VEVENT
DTSTART;TZID=Europe/Paris:20250605T193000
DTEND;TZID=Europe/Paris:20250605T233000
DTSTAMP:20260420T013052
CREATED:20250604T090847Z
LAST-MODIFIED:20250604T090847Z
UID:803-1749151800-1749166200@tanierejeux.fr
SUMMARY:Découverte jeux
DESCRIPTION:Ce jeudi 5 juin est le 1er jeudi du mois\, le jour de test des nouveautés des potes de Jeux du monde \nSi vous souhaitez découvrir les dernières nouveautés\, RDV à partir de 19h30\, 8 rue Ampère.\nIl est fortement conseillé de réserver une table au 07 84 63 14 29 ! \nVoici la liste non-exhaustive de ce qui sera amené : \n\nSengoku\nLes Jardins Suspendus\nFlatiron\nLes cités Rivales\nExpédition vers 5X\nFifty\nHappy DayZ\nImproo\nTrailblazer\nVerso\nBellevue\nRevolte
URL:https://tanierejeux.fr/event/decouverte-jeux-3/
LOCATION:La Tanière au coin du jeu\, 8 rue Ampère\, Grenoble\, Isere\, 38000\, France
CATEGORIES:découverte
ATTACH;FMTTYPE=image/jpeg:https://tanierejeux.fr/wp-content/uploads/2025/06/1.jpg
ORGANIZER;CN="La Tani%C3%A8re au coin du jeu %F0%9F%94%A5":MAILTO:contact@tanierejeux.fr
END:VEVENT
BEGIN:VEVENT
DTSTART;TZID=Europe/Paris:20250614T190000
DTEND;TZID=Europe/Paris:20250614T223000
DTSTAMP:20260420T013052
CREATED:20250604T091454Z
LAST-MODIFIED:20250604T091454Z
UID:808-1749927600-1749940200@tanierejeux.fr
SUMMARY:Quiz de L'écureuil
DESCRIPTION:
URL:https://tanierejeux.fr/event/quiz-de-lecureuil-2/
LOCATION:La Tanière au coin du jeu\, 8 rue Ampère\, Grenoble\, Isere\, 38000\, France
CATEGORIES:quiz
ATTACH;FMTTYPE=image/jpeg:https://tanierejeux.fr/wp-content/uploads/2025/06/1-1.jpg
ORGANIZER;CN="La Tani%C3%A8re au coin du jeu %F0%9F%94%A5":MAILTO:contact@tanierejeux.fr
END:VEVENT
BEGIN:VEVENT
DTSTART;TZID=Europe/Paris:20250616T080000
DTEND;TZID=Europe/Paris:20250616T170000
DTSTAMP:20260420T013052
CREATED:20250616T142051Z
LAST-MODIFIED:20250616T142051Z
UID:826-1750060800-1750093200@tanierejeux.fr
SUMMARY:Fermeture
DESCRIPTION:
URL:https://tanierejeux.fr/event/fermeture/
LOCATION:Isere
ATTACH;FMTTYPE=image/jpeg:https://tanierejeux.fr/wp-content/uploads/2025/06/Copie-de-2505-pontsDeMai-1080-x-1350-px-1.jpg
END:VEVENT
BEGIN:VEVENT
DTSTART;TZID=Europe/Paris:20250618T190000
DTEND;TZID=Europe/Paris:20250618T220000
DTSTAMP:20260420T013052
CREATED:20250616T141919Z
LAST-MODIFIED:20250616T141919Z
UID:823-1750273200-1750284000@tanierejeux.fr
SUMMARY:Who's The Brain - enigmatiques
DESCRIPTION:2 personnalités du monde du jeu que l’on met en avant à la tanière : Lise Berfini qui a réalisé les escape games de Au fil du Dédale et Cécilia Pascal qui réalise les énigmes et escape games de Le Lapin Blanc. Venez les découvrir !
URL:https://tanierejeux.fr/event/whos-the-brain-enigmatiques/
LOCATION:La Tanière au coin du jeu\, 8 rue Ampère\, Grenoble\, Isere\, 38000\, France
CATEGORIES:découverte
ATTACH;FMTTYPE=image/jpeg:https://tanierejeux.fr/wp-content/uploads/2025/06/Whos-the-brain-2.jpg
ORGANIZER;CN="La Tani%C3%A8re au coin du jeu %F0%9F%94%A5":MAILTO:contact@tanierejeux.fr
END:VEVENT
BEGIN:VEVENT
DTSTART;TZID=Europe/Paris:20250619T193000
DTEND;TZID=Europe/Paris:20250619T230000
DTSTAMP:20260420T013052
CREATED:20250609T171617Z
LAST-MODIFIED:20250609T171636Z
UID:818-1750361400-1750374000@tanierejeux.fr
SUMMARY:Soirée Tichu
DESCRIPTION:Comme chaque 3ème jeudi du mois\, nous organisons avec l’équipe de jeux du monde une session tichu. \nLes copain·es de jeux du monde sont des spécialistes du tichu (et du jeu de go mais ça n’a rien à voir) et peuvent vous aiguiller sur les règles et stratégies.
URL:https://tanierejeux.fr/event/soiree-tichu-2/
LOCATION:La Tanière au coin du jeu\, 8 rue Ampère\, Grenoble\, Isere\, 38000\, France
CATEGORIES:découverte,initiation
ATTACH;FMTTYPE=image/jpeg:https://tanierejeux.fr/wp-content/uploads/2025/06/1-2.jpg
ORGANIZER;CN="La Tani%C3%A8re au coin du jeu %F0%9F%94%A5":MAILTO:contact@tanierejeux.fr
END:VEVENT
BEGIN:VEVENT
DTSTART;TZID=Europe/Paris:20250625T180000
DTEND;TZID=Europe/Paris:20250625T190000
DTSTAMP:20260420T013052
CREATED:20250605T132759Z
LAST-MODIFIED:20250605T132759Z
UID:812-1750874400-1750878000@tanierejeux.fr
SUMMARY:Vulgarisation de la bière craft
DESCRIPTION:Fonctionnement\nTu aimes bien boire des bières\nmais tu sais pas c’que tu bois.\nViens\, on va le découvrir. \nSophie est une amatrice\, formée en bièrologie et présente dans de nombreuses associations brassicoles donc clairement passionnée.\nElle vous propose une heure de découverte autour de la bière craft. \nMais koicé Bigre ?\nLe Bigre c’est le festival de la Bière Indépendante à GREnoble le 29 juin et La Tanière au coin du jeu participe cette année à la Bigre Semaine.
URL:https://tanierejeux.fr/event/vulgarisation-de-la-biere-craft/
LOCATION:La Tanière au coin du jeu\, 8 rue Ampère\, Grenoble\, Isere\, 38000\, France
CATEGORIES:découverte,vulgarisation
ATTACH;FMTTYPE=image/jpeg:https://tanierejeux.fr/wp-content/uploads/2025/06/250605_VisuEvent_VulgaTaniere-01-scaled.jpg
ORGANIZER;CN="La Tani%C3%A8re au coin du jeu %F0%9F%94%A5":MAILTO:contact@tanierejeux.fr
END:VEVENT
BEGIN:VEVENT
DTSTART;TZID=Europe/Paris:20250627T190000
DTEND;TZID=Europe/Paris:20250627T220000
DTSTAMP:20260420T013052
CREATED:20250627T120919Z
LAST-MODIFIED:20250627T120919Z
UID:831-1751050800-1751061600@tanierejeux.fr
SUMMARY:Jeu de Rôle avec l'ALEG
DESCRIPTION:Jeu : Mousquetaires Mécaniques \nType : clock-steam-punk (sans punk) \nNombre de Joueur-ses : 5 \nSynopsis : citoyen-ne-s d’une cité-état en conflit avec ses voisines\, votre mission est d’enquêter sur une soi-disant découverte cruciale de vos ennemis.
URL:https://tanierejeux.fr/event/jeu-de-role-avec-laleg-2/
LOCATION:La Tanière au coin du jeu\, 8 rue Ampère\, Grenoble\, Isere\, 38000\, France
CATEGORIES:initiation,Jeu de Rôle
ATTACH;FMTTYPE=image/jpeg:https://tanierejeux.fr/wp-content/uploads/2025/06/1-3.jpg
END:VEVENT
END:VCALENDAR